BEGIN:VCALENDAR
VERSION:2.0
PRODID:-//York County First Steps - ECPv6.10.1.1//NONSGML v1.0//EN
CALSCALE:GREGORIAN
METHOD:PUBLISH
X-ORIGINAL-URL:https://ycfirststeps.com
X-WR-CALDESC:Events for York County First Steps
REFRESH-INTERVAL;VALUE=DURATION:PT1H
X-Robots-Tag:noindex
X-PUBLISHED-TTL:PT1H
BEGIN:VTIMEZONE
TZID:America/New_York
BEGIN:DAYLIGHT
TZOFFSETFROM:-0500
TZOFFSETTO:-0400
TZNAME:EDT
DTSTART:20250309T070000
END:DAYLIGHT
BEGIN:STANDARD
TZOFFSETFROM:-0400
TZOFFSETTO:-0500
TZNAME:EST
DTSTART:20251102T060000
END:STANDARD
END:VTIMEZONE
BEGIN:VEVENT
DTSTART;TZID=America/New_York:20250503T130000
DTEND;TZID=America/New_York:20250503T150000
DTSTAMP:20260421T181513
CREATED:20250415T150804Z
LAST-MODIFIED:20250415T150941Z
UID:118549-1746277200-1746284400@ycfirststeps.com
SUMMARY:Spring Picnic for Nurse Family Partnership Clients
DESCRIPTION:
URL:https://ycfirststeps.com/event/spring-picnic-for-nurse-family-partnership-clients/
END:VEVENT
END:VCALENDAR